{
 "currentVersion": 11.5,
 "serviceDescription": "OtherRaster/TerainHS",
 "serviceItemId": "1674cc86972a46cca6a0f0bb878ff516",
 "name": "OtherRaster/TerainHS",
 "description": "",
 "extent": {
  "xmin": 535045.876132824,
  "ymin": 1298034.5992516123,
  "xmax": 747995.2798835612,
  "ymax": 1492485.4199194144,
  "spatialReference": {
   "wkid": 102970,
   "latestWkid": 6557
  }
 },
 "initialExtent": {
  "xmin": 535045.876132824,
  "ymin": 1298034.5992516123,
  "xmax": 747995.2798835612,
  "ymax": 1492485.4199194144,
  "spatialReference": {
   "wkid": 102970,
   "latestWkid": 6557
  }
 },
 "fullExtent": {
  "xmin": 535045.876132824,
  "ymin": 1298034.5992516123,
  "xmax": 747995.2798835612,
  "ymax": 1492485.4199194144,
  "spatialReference": {
   "wkid": 102970,
   "latestWkid": 6557
  }
 },
 "sortableFields": "",
 "bandCount": 1,
 "pixelType": "U8",
 "minValues": [
  0
 ],
 "maxValues": [
  255
 ],
 "meanValues": [
  170.2749373013399
 ],
 "stdvValues": [
  38.948907470707894
 ],
 "serviceProperties": "Center<\/MosaicMethod>First<\/MosaicOperator>true<\/SortAscending><\/LockImageID><\/TileOrderField>0<\/TileOrderBase>0.000000<\/AvgImageSpacingX>0.000000<\/AvgImageSpacingY>0.0<\/ViewPointX>0.0<\/ViewPointY>0.0<\/ViewPointDefShiftX>0.0<\/ViewPointDefShiftY>None<\/CompressionMethod>75<\/CompressionQuality>0.010000<\/CompressionTolerance>Bilinear<\/SamplingMethod><\/ImageServiceProperties><\/ImageServer>",
 "allowedFields": "",
 "hasMultidimensions": false,
 "pixelSizeX": 3.0056797379036713,
 "pixelSizeY": 3.0068164630864715,
 "meanPixelSize": 0.9163044210308977,
 "datasetFormat": "SDR",
 "uncompressedSize": 4581804830,
 "blockWidth": 128,
 "blockHeight": 128,
 "compressionType": "NONE",
 "bandNames": [
  "Band_1"
 ],
 "allowCopy": true,
 "allowAnalysis": true,
 "itemAccess": false,
 "inspectionCapabilities": "",
 "minPixelSize": 0,
 "maxPixelSize": 0,
 "copyrightText": "",
 "serviceDataType": "esriImageServiceDataTypeElevation",
 "serviceSourceType": "esriImageServiceSourceTypeDataset",
 "objectIdField": "",
 "fields": [],
 "capabilities": "Image,Metadata,Mensuration",
 "defaultMosaicMethod": "Center",
 "allowedMosaicMethods": "",
 "sortField": "",
 "sortValue": null,
 "sortAscending": true,
 "mosaicOperator": "First",
 "defaultCompressionQuality": 75,
 "defaultResamplingMethod": "Bilinear",
 "maxImageHeight": 4100,
 "maxImageWidth": 15000,
 "allowRasterFunction": true,
 "rasterFunctionInfos": [
  {
   "name": "None",
   "description": "",
   "help": ""
  }
 ],
 "rasterTypeInfos": [
  {
   "name": "Raster Dataset",
   "description": "Supports all ArcGIS Raster Datasets",
   "help": ""
  }
 ],
 "mensurationCapabilities": "Basic",
 "hasHistograms": true,
 "hasColormap": false,
 "hasRasterAttributeTable": false,
 "minScale": 0,
 "maxScale": 0,
 "exportTilesAllowed": false,
 "supportsStatistics": false,
 "supportsAdvancedQueries": false,
 "editFieldsInfo": null,
 "ownershipBasedAccessControlForRasters": null,
 "allowComputeTiePoints": false,
 "useStandardizedQueries": true,
 "advancedQueryCapabilities": {
  "useStandardizedQueries": true,
  "supportsStatistics": false,
  "supportsOrderBy": false,
  "supportsDistinct": false,
  "supportsPagination": false
 },
 "spatialReference": {
  "wkid": 102970,
  "latestWkid": 6557
 }
}
