View In:
ArcGIS JavaScript
ArcGIS Online Map Viewer
ArcGIS Earth
Service Description: OtherRaster/SurfaceModel
Name: OtherRaster/SurfaceModel
Description:
Single Fused Map Cache: false
Extent:
XMin: 535244.6271784167
YMin: 1298239.2792608566
XMax: 747869.9440888881
YMax: 1492290.0589322615
Spatial Reference: 102970
(6557)
VCSWkid(105703)
LatestVCSWkid(6360)
Initial Extent:
XMin: 535244.6271784167
YMin: 1298239.2792608566
XMax: 747869.9440888881
YMax: 1492290.0589322615
Spatial Reference: 102970
(6557)
VCSWkid(105703)
LatestVCSWkid(6360)
Full Extent:
XMin: 535244.6271784167
YMin: 1298239.2792608566
XMax: 747869.9440888881
YMax: 1492290.0589322615
Spatial Reference: 102970
(6557)
VCSWkid(105703)
LatestVCSWkid(6360)
Pixel Size X: 3.0028007302810575
Pixel Size Y: 3.003370628397718
Band Count: 1
Pixel Type: F32
RasterFunction Infos: {"rasterFunctionInfos": [{
"name": "None",
"description": "",
"help": ""
}]}
Mensuration Capabilities: Basic
Inspection Capabilities:
Has Histograms: true
Has Colormap: false
Has Multi Dimensions : false
Rendering Rule:
Min Scale: 0
Max Scale: 0
Copyright Text:
Service Data Type: esriImageServiceDataTypeElevation
Min Values: -10.251407623291016
Max Values: 761703.875
Mean Values: 894.8883641462867
Standard Deviation Values: 773.2345004966436
Object ID Field:
Fields:
None
Default Mosaic Method: Center
Allowed Mosaic Methods:
SortField:
SortValue: null
Mosaic Operator: First
Default Compression Quality: 75
Default Resampling Method: Bilinear
Max Record Count: null
Max Image Height: 4100
Max Image Width: 15000
Max Download Image Count: null
Max Mosaic Image Count: null
Allow Raster Function: true
Allow Copy: true
Allow Analysis: true
Allow Compute TiePoints: false
Supports Statistics: false
Supports Advanced Queries: false
Use StandardizedQueries: true
Raster Type Infos:
Name: Raster Dataset
Description: Supports all ArcGIS Raster Datasets
Help:
Has Raster Attribute Table: false
Edit Fields Info: null
Ownership Based AccessControl For Rasters: null
Child Resources:
Info
Histograms
Statistics
Key Properties
Legend
Raster Function Infos
Supported Operations:
Export Image
Identify
Measure
Compute Histograms
Compute Statistics Histograms
Get Samples
Compute Class Statistics
Query Boundary
Compute Pixel Location
Compute Angles
Validate
Project
Calculate Volume