View In:
ArcGIS JavaScript
ArcGIS Online Map Viewer
ArcGIS Earth
Service Description: OtherRaster/TerainHS
Name: OtherRaster/TerainHS
Description:
Single Fused Map Cache: false
Extent:
XMin: 535045.876132824
YMin: 1298034.5992516123
XMax: 747995.2798835612
YMax: 1492485.4199194144
Spatial Reference: 102970
(6557)
LatestVCSWkid(0)
Initial Extent:
XMin: 535045.876132824
YMin: 1298034.5992516123
XMax: 747995.2798835612
YMax: 1492485.4199194144
Spatial Reference: 102970
(6557)
LatestVCSWkid(0)
Full Extent:
XMin: 535045.876132824
YMin: 1298034.5992516123
XMax: 747995.2798835612
YMax: 1492485.4199194144
Spatial Reference: 102970
(6557)
LatestVCSWkid(0)
Pixel Size X: 3.0056797379036713
Pixel Size Y: 3.0068164630864715
Band Count: 1
Pixel Type: U8
RasterFunction Infos: {"rasterFunctionInfos": [{
"name": "None",
"description": "",
"help": ""
}]}
Mensuration Capabilities: Basic
Inspection Capabilities:
Has Histograms: true
Has Colormap: false
Has Multi Dimensions : false
Rendering Rule:
Min Scale: 0
Max Scale: 0
Copyright Text:
Service Data Type: esriImageServiceDataTypeElevation
Min Values: 0
Max Values: 255
Mean Values: 170.2749373013399
Standard Deviation Values: 38.948907470707894
Object ID Field:
Fields:
None
Default Mosaic Method: Center
Allowed Mosaic Methods:
SortField:
SortValue: null
Mosaic Operator: First
Default Compression Quality: 75
Default Resampling Method: Bilinear
Max Record Count: null
Max Image Height: 4100
Max Image Width: 15000
Max Download Image Count: null
Max Mosaic Image Count: null
Allow Raster Function: true
Allow Copy: true
Allow Analysis: true
Allow Compute TiePoints: false
Supports Statistics: false
Supports Advanced Queries: false
Use StandardizedQueries: true
Raster Type Infos:
Name: Raster Dataset
Description: Supports all ArcGIS Raster Datasets
Help:
Has Raster Attribute Table: false
Edit Fields Info: null
Ownership Based AccessControl For Rasters: null
Child Resources:
Info
Histograms
Statistics
Key Properties
Legend
Raster Function Infos
Supported Operations:
Export Image
Identify
Measure
Compute Histograms
Compute Statistics Histograms
Get Samples
Compute Class Statistics
Query Boundary
Compute Pixel Location
Compute Angles
Validate
Project
Calculate Volume